BEGIN:VCALENDAR
VERSION:2.0
PRODID:-//St. Andrew the Apostle Mission - ECPv6.3.5//NONSGML v1.0//EN
CALSCALE:GREGORIAN
METHOD:PUBLISH
X-ORIGINAL-URL:https://saintandrewfw.org
X-WR-CALDESC:Events for St. Andrew the Apostle Mission
REFRESH-INTERVAL;VALUE=DURATION:PT1H
X-Robots-Tag:noindex
X-PUBLISHED-TTL:PT1H
BEGIN:VTIMEZONE
TZID:America/Indiana/Indianapolis
BEGIN:DAYLIGHT
TZOFFSETFROM:-0500
TZOFFSETTO:-0400
TZNAME:EDT
DTSTART:20240310T070000
END:DAYLIGHT
BEGIN:STANDARD
TZOFFSETFROM:-0400
TZOFFSETTO:-0500
TZNAME:EST
DTSTART:20241103T060000
END:STANDARD
END:VTIMEZONE
BEGIN:VEVENT
DTSTART;TZID=America/Indiana/Indianapolis:20240623T100000
DTEND;TZID=America/Indiana/Indianapolis:20240623T113000
DTSTAMP:20260420T062734
CREATED:20240321T233123Z
LAST-MODIFIED:20240617T180117Z
UID:25354-1719136800-1719142200@saintandrewfw.org
SUMMARY:Typica
DESCRIPTION:With Deacon Timothy Woods\, celebrant.
URL:https://saintandrewfw.org/event/divine-liturgy-30/
LOCATION:St. Therese Catholic Church
CATEGORIES:Parish Schedule
END:VEVENT
END:VCALENDAR