BEGIN:VCALENDAR
VERSION:2.0
PRODID:-//St. Andrew the Apostle Mission - ECPv6.3.5//NONSGML v1.0//EN
CALSCALE:GREGORIAN
METHOD:PUBLISH
X-ORIGINAL-URL:https://saintandrewfw.org
X-WR-CALDESC:Events for St. Andrew the Apostle Mission
REFRESH-INTERVAL;VALUE=DURATION:PT1H
X-Robots-Tag:noindex
X-PUBLISHED-TTL:PT1H
BEGIN:VTIMEZONE
TZID:America/Indiana/Indianapolis
BEGIN:DAYLIGHT
TZOFFSETFROM:-0500
TZOFFSETTO:-0400
TZNAME:EDT
DTSTART:20250309T070000
END:DAYLIGHT
BEGIN:STANDARD
TZOFFSETFROM:-0400
TZOFFSETTO:-0500
TZNAME:EST
DTSTART:20251102T060000
END:STANDARD
END:VTIMEZONE
BEGIN:VEVENT
DTSTART;TZID=America/Indiana/Indianapolis:20251102T093000
DTEND;TZID=America/Indiana/Indianapolis:20251102T100000
DTSTAMP:20260423T085000
CREATED:20250905T110349Z
LAST-MODIFIED:20250905T110349Z
UID:25942-1762075800-1762077600@saintandrewfw.org
SUMMARY:Matins
DESCRIPTION:
URL:https://saintandrewfw.org/event/matins-26/
LOCATION:St. Therese Catholic Church
CATEGORIES:Parish Schedule
END:VEVENT
BEGIN:VEVENT
DTSTART;TZID=America/Indiana/Indianapolis:20251102T100000
DTEND;TZID=America/Indiana/Indianapolis:20251102T113000
DTSTAMP:20260423T085000
CREATED:20250905T110438Z
LAST-MODIFIED:20251101T203158Z
UID:25944-1762077600-1762083000@saintandrewfw.org
SUMMARY:Divine Liturgy
DESCRIPTION:With Fr. David Meinzen\, celebrant.
URL:https://saintandrewfw.org/event/typica-25/
LOCATION:St. Therese Catholic Church
CATEGORIES:Parish Schedule
END:VEVENT
END:VCALENDAR