BEGIN:VCALENDAR
VERSION:2.0
PRODID:-//St. Andrew the Apostle Mission - ECPv6.3.5//NONSGML v1.0//EN
CALSCALE:GREGORIAN
METHOD:PUBLISH
X-WR-CALNAME:St. Andrew the Apostle Mission
X-ORIGINAL-URL:https://saintandrewfw.org
X-WR-CALDESC:Events for St. Andrew the Apostle Mission
REFRESH-INTERVAL;VALUE=DURATION:PT1H
X-Robots-Tag:noindex
X-PUBLISHED-TTL:PT1H
BEGIN:VTIMEZONE
TZID:America/Indiana/Indianapolis
BEGIN:DAYLIGHT
TZOFFSETFROM:-0500
TZOFFSETTO:-0400
TZNAME:EDT
DTSTART:20250309T070000
END:DAYLIGHT
BEGIN:STANDARD
TZOFFSETFROM:-0400
TZOFFSETTO:-0500
TZNAME:EST
DTSTART:20251102T060000
END:STANDARD
END:VTIMEZONE
BEGIN:VEVENT
DTSTART;TZID=America/Indiana/Indianapolis:20251116T093000
DTEND;TZID=America/Indiana/Indianapolis:20251116T100000
DTSTAMP:20260423T143511
CREATED:20250905T110844Z
LAST-MODIFIED:20250905T110844Z
UID:25950-1763285400-1763287200@saintandrewfw.org
SUMMARY:Matins
DESCRIPTION:
URL:https://saintandrewfw.org/event/matins-28/
LOCATION:St. Therese Catholic Church
CATEGORIES:Parish Schedule
END:VEVENT
BEGIN:VEVENT
DTSTART;TZID=America/Indiana/Indianapolis:20251116T100000
DTEND;TZID=America/Indiana/Indianapolis:20251116T113000
DTSTAMP:20260423T143511
CREATED:20250905T111016Z
LAST-MODIFIED:20250905T111016Z
UID:25952-1763287200-1763292600@saintandrewfw.org
SUMMARY:Divine Liturgy
DESCRIPTION:With Fr. David Meinzen\, celebrant. \nNativity Fast starts on Saturday\, Nov. 15th.
URL:https://saintandrewfw.org/event/divine-liturgy-74/
LOCATION:St. Therese Catholic Church
CATEGORIES:Parish Schedule
END:VEVENT
END:VCALENDAR