BEGIN:VCALENDAR
VERSION:2.0
PRODID:-//St. Andrew the Apostle Mission - ECPv6.3.5//NONSGML v1.0//EN
CALSCALE:GREGORIAN
METHOD:PUBLISH
X-ORIGINAL-URL:https://saintandrewfw.org
X-WR-CALDESC:Events for St. Andrew the Apostle Mission
REFRESH-INTERVAL;VALUE=DURATION:PT1H
X-Robots-Tag:noindex
X-PUBLISHED-TTL:PT1H
BEGIN:VTIMEZONE
TZID:America/Indiana/Indianapolis
BEGIN:DAYLIGHT
TZOFFSETFROM:-0500
TZOFFSETTO:-0400
TZNAME:EDT
DTSTART:20250309T070000
END:DAYLIGHT
BEGIN:STANDARD
TZOFFSETFROM:-0400
TZOFFSETTO:-0500
TZNAME:EST
DTSTART:20251102T060000
END:STANDARD
END:VTIMEZONE
BEGIN:VEVENT
DTSTART;TZID=America/Indiana/Indianapolis:20251005T093000
DTEND;TZID=America/Indiana/Indianapolis:20251005T100000
DTSTAMP:20260423T044813
CREATED:20250905T105600Z
LAST-MODIFIED:20250905T105600Z
UID:25924-1759656600-1759658400@saintandrewfw.org
SUMMARY:Matins
DESCRIPTION:
URL:https://saintandrewfw.org/event/matins-22/
LOCATION:St. Therese Catholic Church
CATEGORIES:Parish Schedule
END:VEVENT
BEGIN:VEVENT
DTSTART;TZID=America/Indiana/Indianapolis:20251005T100000
DTEND;TZID=America/Indiana/Indianapolis:20251005T113000
DTSTAMP:20260423T044813
CREATED:20250905T105647Z
LAST-MODIFIED:20250905T105647Z
UID:25926-1759658400-1759663800@saintandrewfw.org
SUMMARY:Divine Liturgy
DESCRIPTION:With Fr. David Meinzen\, celebrant.
URL:https://saintandrewfw.org/event/divine-liturgy-71/
LOCATION:St. Therese Catholic Church
CATEGORIES:Parish Schedule
END:VEVENT
BEGIN:VEVENT
DTSTART;TZID=America/Indiana/Indianapolis:20251012T093000
DTEND;TZID=America/Indiana/Indianapolis:20251012T100000
DTSTAMP:20260423T044813
CREATED:20250905T105743Z
LAST-MODIFIED:20250905T105743Z
UID:25928-1760261400-1760263200@saintandrewfw.org
SUMMARY:Matins
DESCRIPTION:
URL:https://saintandrewfw.org/event/matins-23/
LOCATION:St. Therese Catholic Church
CATEGORIES:Parish Schedule
END:VEVENT
BEGIN:VEVENT
DTSTART;TZID=America/Indiana/Indianapolis:20251012T100000
DTEND;TZID=America/Indiana/Indianapolis:20251012T110000
DTSTAMP:20260423T044813
CREATED:20250905T105829Z
LAST-MODIFIED:20250905T105829Z
UID:25930-1760263200-1760266800@saintandrewfw.org
SUMMARY:Typica
DESCRIPTION:With Deacon Tim Woods\, celebrant.
URL:https://saintandrewfw.org/event/typica-23/
LOCATION:St. Therese Catholic Church
CATEGORIES:Parish Schedule
END:VEVENT
BEGIN:VEVENT
DTSTART;TZID=America/Indiana/Indianapolis:20251019T093000
DTEND;TZID=America/Indiana/Indianapolis:20251019T100000
DTSTAMP:20260423T044813
CREATED:20250905T105915Z
LAST-MODIFIED:20250905T105915Z
UID:25932-1760866200-1760868000@saintandrewfw.org
SUMMARY:Matins
DESCRIPTION:
URL:https://saintandrewfw.org/event/matins-24/
LOCATION:St. Therese Catholic Church
CATEGORIES:Parish Schedule
END:VEVENT
BEGIN:VEVENT
DTSTART;TZID=America/Indiana/Indianapolis:20251019T100000
DTEND;TZID=America/Indiana/Indianapolis:20251019T110000
DTSTAMP:20260423T044813
CREATED:20250905T110011Z
LAST-MODIFIED:20250905T110011Z
UID:25934-1760868000-1760871600@saintandrewfw.org
SUMMARY:Typica
DESCRIPTION:With Deacon Tim Woods\, celebrant.
URL:https://saintandrewfw.org/event/typica-24/
LOCATION:St. Therese Catholic Church
CATEGORIES:Parish Schedule
END:VEVENT
BEGIN:VEVENT
DTSTART;TZID=America/Indiana/Indianapolis:20251026T093000
DTEND;TZID=America/Indiana/Indianapolis:20251026T100000
DTSTAMP:20260423T044813
CREATED:20250905T110102Z
LAST-MODIFIED:20250905T110102Z
UID:25936-1761471000-1761472800@saintandrewfw.org
SUMMARY:Matins
DESCRIPTION:
URL:https://saintandrewfw.org/event/matins-25/
LOCATION:St. Therese Catholic Church
CATEGORIES:Parish Schedule
END:VEVENT
BEGIN:VEVENT
DTSTART;TZID=America/Indiana/Indianapolis:20251026T100000
DTEND;TZID=America/Indiana/Indianapolis:20251026T113000
DTSTAMP:20260423T044813
CREATED:20250905T110150Z
LAST-MODIFIED:20250905T110150Z
UID:25938-1761472800-1761478200@saintandrewfw.org
SUMMARY:Divine Liturgy
DESCRIPTION:With Fr. David Meinzen\, celebrant.
URL:https://saintandrewfw.org/event/divine-liturgy-72/
LOCATION:St. Therese Catholic Church
CATEGORIES:Parish Schedule
END:VEVENT
BEGIN:VEVENT
DTSTART;TZID=America/Indiana/Indianapolis:20251026T113000
DTEND;TZID=America/Indiana/Indianapolis:20251026T120000
DTSTAMP:20260423T044813
CREATED:20250905T110256Z
LAST-MODIFIED:20250905T110256Z
UID:25940-1761478200-1761480000@saintandrewfw.org
SUMMARY:Parish Meeting
DESCRIPTION:Immediately following Divine Liturgy and Agape.
URL:https://saintandrewfw.org/event/parish-meeting-10/
LOCATION:St. Therese Catholic Church
CATEGORIES:Parish Schedule
END:VEVENT
END:VCALENDAR